BEGIN:VCALENDAR
VERSION:2.0
PRODID:Events Booking
BEGIN:VEVENT
UID:69e7845debb3b
SUMMARY:VII Conferenza Annuale ICESP “Le buone pratiche di Ecodesign”
DESCRIPTION:La settima conferenza annuale della Piattaforma Italiana degli 
 attori per l’Economia Circolare (ICESP) offre un momento di confronto su
 lle buone pratiche di Ecodesign\, la loro connotazione e ruolo\, il confro
 nto all’interno del panorama europeo e degli standard italiani e le line
 e guida per l’integrazione dell’Ecodesign. Alla tavola rotonda ci sar
 à il punto di vista di istituzioni ed imprese sulla tematica.&nbsp\;
 La
  Piattaforma ICESP\, che lavora in stretta connessione con la Piattaforma 
 della Commissione Europea ECESP (European Circular Economy Stakeholder Pla
 tform)\, rappresenta la più strutturata ed estesa comunità di attori ita
 liani dell’economia circolare\, costituita da più di 300 organizzazioni
  ed oltre 900 esperti di istituzioni pubbliche locali e nazionali\, impres
 e e associazioni di categoria\, mondo della ricerca\, società civile. ICE
 SP è una realtà di riferimento e di confronto riconosciuta a livello naz
 ionale ed internazionale\, e si propone di far convergere iniziative\, esp
 erienze\, criticità e prospettive che il nostro paese vuole e può rappre
 sentare in Europa e di promuovere l'“Italian way for circular economy”
 .&nbsp\;
 PROGRAMMA&nbsp\;&nbsp\;
 QR CODE
 REGISTRAZIONE INTEGRALE DEL
 L'EVENTO
LOCATION:Via IV Novembre\, 119/a
DTSTART:20241212T083000Z
DTEND:20241212T120000Z
DTSTAMP:20241115T101520Z
ORGANIZER:MAILTO:noreply.rel-prom@enea.it
END:VEVENT
END:VCALENDAR