BEGIN:VCALENDAR
VERSION:2.0
PRODID:Events Booking
BEGIN:VEVENT
UID:69e801dd4e219
SUMMARY:UPGRADE 1946: è il mio turno. “80 anni dal voto delle donne\, il
  futuro inizia ieri”
DESCRIPTION:Il prossimo 29 maggio\, l’Auditorium dell’Agenzia Spaziale 
 Italiana ospiterà l’evento \"UPGRADE 1946: è il mio turno\"\, un’ini
 ziativa corale promossa dai Comitati Unici di Garanzia (CUG) di ASI ISS\, 
 ISTAT\, INAPP\, CNR\, ENEA\, ISPRA\, CREA\, AIFA\, ENAC\, INVALSI\, Stazio
 ne Zoologica Anton Dohrn\, Sapienza Università di Roma\, UnivAQ (L'Aquila
 )\, Unimore (Modena e Reggio Emilia).
 Punto di partenza per il dibattito
  sull'evoluzione dei diritti e delle libertà sarà la proiezione del film
  \"C’è ancora domani\" di Paola Cortellesi\, un'opera potente che guide
 rà la riflessione collettiva.
 Il programma prevede un dialogo dinamico 
 tra scienza\, storia e società\, arricchito dalla partecipazione di relat
 rici e relatori d'eccezione che offriranno \"pillole\" di approfondimento 
 sui temi dell'evoluzione sociale e dei diritti.
 Protagonisti assoluti sa
 ranno le studentesse e gli studenti\, che animeranno l'evento presentando 
 i propri reel e interagendo attivamente con le/gli ospiti e il pubblico in
  sala\, rendendo il confronto un vero momento di scambio generazionale.
 
 Modalità di partecipazione
 Le classi interessate a partecipare in prese
 nza devono devono procedere alla registrazione obbligatoria tramite il seg
 uente link::&nbsp\;
 Evento UPGRADE 1946: è il mio turno – Compila mod
 ulo
 Per gli Istituti scolastici che non riusciranno a prenotarsi in temp
 o o che si trovano fuori Regione\, sarà garantita la diretta streaming su
  piattaforma Microsoft Teams.
LOCATION:Via del Politecnico snc\, 00133 Roma
DTSTART:20260529T070000Z
DTEND:20260529T113000Z
DTSTAMP:20260420T075110Z
ORGANIZER:MAILTO:noreply.rel-prom@enea.it
GEO:41.855547;12.620754
X-APPLE-STRUCTURED-LOCATION;VALUE=URI;X-ADDRESS=Via del Politecnico snc\, 0
 0133 Roma;X-APPLE-RADIUS=72;X-TITLE=Auditorium dell’Agenzia Spaziale Ita
 liana:41.855547;12.620754
END:VEVENT
END:VCALENDAR