BEGIN:VCALENDAR
VERSION:2.0
PRODID:Events Booking
BEGIN:VEVENT
UID:69e7a47f73d2f
SUMMARY:ENEA partecipa a Ecomed 2026 - Green Expo del Mediterraneo - Uno sg
 uardo al futuro sostenibile 
DESCRIPTION:Dal 22 al 24 aprile 2026 si svolge\, presso SiciliaFiera&nbsp\;
 (Misterbianco\, Catania)\, l'edizione 2026 di&nbsp\;ECOMED Green Expo del 
 Mediterraneo (www.eco-med.it)\, uno dei principali appuntamenti del Mezzog
 iorno dedicati alla transizione ecologica\, all’innovazione e al rapport
 o tra ricerca\, istituzioni e sistema produttivo.
 Anche quest'anno ENEA 
 sarà protagonista nel corso dei tre giorni della manifestazione con le su
 e attiità scientifiche e con i suoi ricercatori e ricercatrici.
 Grazie 
 alla Struttura di Ricerca Congiunta (SRC)\, istituita con l’Università 
 di Catania\, proseguono e si consolidano\, anno dopo anno\, le attività d
 i ricerca e sviluppo e le interazioni con le imprese e gli stakeholder naz
 ionali e regionali che saranno al centro delle iniziative della manifestaz
 ione:
LOCATION:Via Leopoldo Franchetti\, 95045 Misterbianco CT
DTSTART:20260421T220000Z
DTEND:20260423T220000Z
DTSTAMP:20260420T114413Z
ORGANIZER:MAILTO:noreply.rel-prom@enea.it
GEO:37.514272;15.033092
X-APPLE-STRUCTURED-LOCATION;VALUE=URI;X-ADDRESS=Via Leopoldo Franchetti\, 9
 5045 Misterbianco CT;X-APPLE-RADIUS=72;X-TITLE=SiciliaFiera - Misterbianco
  (CT):37.514272;15.033092
END:VEVENT
END:VCALENDAR