BEGIN:VCALENDAR
VERSION:2.0
PRODID:Events Booking
BEGIN:VEVENT
UID:69ea2e086ef16
SUMMARY:Stato dell'arte della Raccolta e Prospettive del Riciclo di Materie
  Prime Seconde in Puglia
DESCRIPTION:Martedì 15 ottobre\, l’Auditorium della Cittadella della Ric
 erca di Brindisi ospiterà il convegno \"Stato dell'arte della Raccolta e 
 Prospettive del Riciclo di Materie Prime Seconde in Puglia\"\, evento orga
 nizzato da CETMA\, ENEA e Circular Economy Network. Il convegno rappresent
 a l’occasione per approfondire il tema della raccolta differenziata e de
 l riciclo delle materie prime seconde\, con particolare attenzione allo sv
 iluppo di soluzioni innovative per l’economia circolare in Puglia.
 PRO
 GRAMMA
LOCATION:SS7 km 706 72100 Brindisi
DTSTART:20241015T070000Z
DTEND:20241015T110000Z
DTSTAMP:20241003T054804Z
ORGANIZER:MAILTO:noreply.rel-prom@enea.it
GEO:40.589286;17.848014
X-APPLE-STRUCTURED-LOCATION;VALUE=URI;X-ADDRESS=SS7 km 706 72100 Brindisi;X
 -APPLE-RADIUS=72;X-TITLE=Auditorium Cittadella della Ricerca\, Brindisi:40
 .589286;17.848014
END:VEVENT
END:VCALENDAR