BEGIN:VCALENDAR
VERSION:2.0
PRODID:Events Booking
BEGIN:VEVENT
UID:69ed58db37b96
SUMMARY:VI Conferenza Annuale ICESP - Materie prime critiche e strategiche:
  fonti secondarie per l'approvvigionamento
DESCRIPTION:ENEA\, in collaborazione con Unioncamere\, organizza la sesta c
 onferenza annuale della Piattaforma Italiana degli attori per l’Economia
  Circolare (ICESP). Il convegno rappresenta un momento di confronto&nbsp\;
  tra i diversi attori coinvolti\, sia a livello istituzionale che imprendi
 toriale\, sulle principali iniziative in corso per l’approvvigionamento 
 di fonti secondarie per le materie prime critiche e strategiche\, quale ta
 ssello fondamentale per accelerare la transizione all’economia circolare
  fornendo prospettive e opportunità emerse entro un’estesa comunità di
  esperti. I risultati delle consultazioni ICESP saranno seguiti dal punto 
 di vista dei Ministeri e delle imprese sul tema.
 La Piattaforma ICESP\, 
 che lavora in stretta connessione con la Piattaforma della Commissione Eur
 opea ECESP (European Circular Economy Stakeholder Platform)\, rappresenta 
 la più strutturata ed estesa comunità di attori italiani dell’economia
  circolare\, costituita da 290 organizzazioni ed oltre 800 esperti proveni
 enti da istituzioni pubbliche locali e nazionali\, imprese e associazioni 
 di categoria\, mondo della ricerca\, società civile.
 ICESP è una realt
 à di riferimento e di confronto riconosciuta a livello nazionale ed inter
 nazionale\, e si propone di far convergere iniziative\, esperienze\, criti
 cità e prospettive che il nostro paese vuole e può rappresentare in Euro
 pa e di promuovere l'“Italian way for circular economy”.
 PROGRAMMA

  VIDEO INTEGRALE DELL'EVENTO&nbsp\;
LOCATION:Piazza Sallustio\, 21 - Roma
DTSTART:20231205T083000Z
DTEND:20231205T153000Z
DTSTAMP:20231031T070559Z
ORGANIZER:MAILTO:noreply.rel-prom@enea.it
GEO:41.9083;12.49762
X-APPLE-STRUCTURED-LOCATION;VALUE=URI;X-ADDRESS=Piazza Sallustio\, 21 - Rom
 a;X-APPLE-RADIUS=72;X-TITLE=Sala Longhi\, Unioncamere - Roma:41.9083;12.49
 762
END:VEVENT
END:VCALENDAR