BEGIN:VCALENDAR
VERSION:2.0
PRODID:Events Booking
BEGIN:VEVENT
UID:69ed58db873ea
SUMMARY:I Conferenza Energia e Ambiente “Strategia energetica e traiettor
 ie di sviluppo\"
DESCRIPTION:La strategia di decarbonizzazione regionale e le principali dir
 ettrici di sviluppo saranno al centro della prima Conferenza Energia e Amb
 iente “Strategia energetica e traiettorie di sviluppo”\, promossa dall
 a Regione Basilicata- Assessorato Ambiente\, Energia e Territorio con la c
 ollaborazione di ENEA e FEEM.
 Rappresentanti istituzionali\, ricercatori
  e accademici\, operatori del settore energetico si confronteranno nel cor
 so delle due giornate sulle principali sfide che caratterizzano la transiz
 ione energetica sia su scala nazionale sia su scala regionale: linee di sv
 iluppo delle fonti rinnovabili\, potenzialità della bioenergia\, opportun
 ità dell’idrogeno\, obiettivi di efficienza energetica\, prospettive de
 lle comunità energetiche rinnovabili e del mercato dei crediti di carboni
 o.
 I lavori della prima giornata saranno chiusi dagli interventi del Min
 istro dell’Ambiente e Sicurezza Energetica\, Gilberto Picchetto Frattin\
 , e del Ministro per gli Affari Europei\, il Sud\, le politiche di coesion
 e e il PNRR\, Raffaele Fitto.
 Le conclusioni della seconda giornata sara
 nno affidate all’Assessore all’Ambiente\, Energia e Territorio della R
 egione Basilicata\, Cosimo Latronico.
 &nbsp\;
LOCATION:Strada Statale Jonica km 419 + 500\, 75026 Rotondella MT
DTSTART:20231121T080000Z
DTEND:20231121T230000Z
DTSTAMP:20231031T113313Z
ORGANIZER:MAILTO:noreply.rel-prom@enea.it
END:VEVENT
END:VCALENDAR