BEGIN:VCALENDAR
VERSION:2.0
PRODID:Events Booking
BEGIN:VEVENT
UID:69e9c44bc4c88
SUMMARY:2a Bioenergy & Bioeconomy School
DESCRIPTION:Dopo il successo e la grande partecipazione della 1° edizione 
 della Bioenergy School (https://www.eventi.enea.it/tutti-gli-eventi-enea/e
 venti-enea/primo-piano/save-the-date-1-bioenergy-school.html)\, è in avvi
 o la 2° edizione Bioenergy &amp\; Bioeconomy School presso il centro rice
 rche ENEA Trisaia.
 La Bioenergy &amp\; Bioeconomy School intende fornire
  a dottorandi ed assegnisti ma anche a professionisti del settore strument
 i di conoscenza\, analisi e valutazione riguardo le più promettenti innov
 azioni tecnologiche per la valorizzazione di biomasse\, risorse biogeniche
  ed in generale fonti sostenibili di carbonio\, approfondendo gli aspetti 
 applicativi di processi biotecnologici\, termochimici e catalitici dallo s
 viluppo sino alla scala industriale.
 LOCANDINA
 PROGRAMMA&nbsp\;
LOCATION:Strada Statale Jonica km 419 + 500\, 75026 Rotondella MT
DTSTART:20251201T073000Z
DTEND:20251204T130000Z
DTSTAMP:20250729T054948Z
ORGANIZER:MAILTO:noreply.rel-prom@enea.it
END:VEVENT
END:VCALENDAR