BEGIN:VCALENDAR
VERSION:2.0
PRODID:Events Booking
BEGIN:VEVENT
UID:69ea2e07e7186
SUMMARY:Programma Nazionale di Ricerche in Antartide | Una visione del futu
 ro\, verso una programmazione pluriennale del PNRA
DESCRIPTION:Il Programma Nazionale di Ricerche in Antartide (PNRA) del Mini
 stero dell’Università e Ricerca\, organizza e coordina la ricerca itali
 ana in Antartide dal 1985. Attualmente è in corso la 39a spedizione itali
 ana in Antartide\, che coinvolge le Stazioni “Mario Zucchelli” e “Co
 ncordia”\, e la nave rompighiaccio “Laura Bassi”. I giorni 5 e 6 dic
 embre 2023 presso il Teatro di Villa Torlonia a Roma\, ricercatori\, tecni
 ci e decision maker sono invitati a confrontarsi sulle sfide della ricerca
  italiana in Antartide e a condividere idee e progetti per supportare la C
 ommissione Scientifica Nazionale per l’Antartide (CSNA) nella programmaz
 ione pluriennale delle attività\, nella cornice internazionale.
 Il Work
 shop fornirà le basi per la preparazione del PNRA triennale 2024- 2026\, 
 ma vuole anche tracciare una visione a più ampio orizzonte del futuro del
 la Ricerca Italiana in Antartide.
 Con il coordinamento della Commissione
  Scientifica Nazionale per l’Antartide\, organizzano l’evento Il CNR\,
  l’ENEA e l’OGS. Il Ministro per la Ricerca e l’Università\, Senato
 re Anna Maria Bernini e Interverranno i Presidenti degli Enti attuatori de
 l PNRA\, Maria Chiara Carrozza (CNR)\, Gilberto Dialuce (ENEA)\, Nicola Ca
 sagli (OGS).
DTSTART:20231205T090000Z
DTEND:20231206T150000Z
DTSTAMP:20231204T131545Z
ORGANIZER:MAILTO:noreply.rel-prom@enea.it
END:VEVENT
END:VCALENDAR