BEGIN:VCALENDAR
VERSION:2.0
PRODID:Events Booking
BEGIN:VEVENT
UID:69e55709c78bf
SUMMARY:POR H2 - Organismi di Ricerca e Università insieme per lo sviluppo
  della filiera nazionale dell’idrogeno
DESCRIPTION:A due anni dall'avvio del Piano Operativo di Ricerca (POR) sull
 'Idrogeno\, l'ENEA\, in collaborazione con RSE e CNR\, organizza e promuov
 e un evento nazionale dal titolo “POR H2 - Organismi di Ricerca e Univer
 sità insieme per lo sviluppo della filiera nazionale dell’idrogeno”\,
  che si terrà a Roma nei giorni 16 e 17 luglio 2024.
 L’obiettivo dell
 ’evento\, oltre alla divulgazione dei risultati fino ad ora raggiunti\, 
 è quello di dare evidenza alla sinergia con la quale le diverse parti coi
 nvolte - Organismi di Ricerca e Università - hanno pianificato e conducon
 o le attività di ricerca\, con finalità comuni:
 
 creare una rete naz
 ionale di competenze e infrastrutture di alto livello lungo l’intera cat
 ena tecnologica dell’idrogeno\;
 promuovere la ricerca di frontiera per
  favorire lo sviluppo di tecnologie di nuova generazione per consentire al
 le aziende del settore di riferimento di mantenere una alta competitività
  nel contesto internazionale\; &nbsp\;
 promuovere la formazione dei giov
 ani e la riqualificazione professionale\;
 favorire la consapevolezza cul
 turale e l’accettabilità sociale delle nuove tecnologie.
 
 Nel corso
  dell’evento saranno mostrati i principali risultati conseguiti sulle di
 verse tematiche afferenti al POR H2.
 PROGRAMMA
 NOTA STAMPA
 REGISTRAZ
 IONE INTEGRALE DELLA SESSIONE PLENARIA - 16 luglio 2024
 Organismi di Ric
 erca e Università insiemeper lo sviluppo della filiera nazionale dell’i
 drogeno | BOOK OF PROCEEDINGS
DTSTART:20240716T073000Z
DTEND:20240717T143000Z
DTSTAMP:20240620T050425Z
ORGANIZER:MAILTO:noreply.rel-prom@enea.it
END:VEVENT
END:VCALENDAR