BEGIN:VCALENDAR
VERSION:2.0
PRODID:Events Booking
BEGIN:VEVENT
UID:69ec07bf5c2ab
SUMMARY:Nuove strategie energetiche e modelli di valorizzazione economico-s
 ociale: le Comunità Energetiche
DESCRIPTION:Le Comunità Energetiche Rinnovabili (CER) rappresentano un ele
 mento chiave per una transizione energetica giusta\, poiché uniscono la d
 imensione sociale alla diffusione delle energie rinnovabili. Non si tratta
  solo di un cambio di paradigma nella produzione e nell’uso dell’energ
 ia\, ma di un modello che mette al centro le persone\, promuovendo parteci
 pazione\, condivisione e benefici diffusi.
 L’evento si propone come mo
 mento di incontro e confronto tra i diversi attori chiave coinvolti nello 
 sviluppo\, gestione e promozione delle CER. L’obiettivo è diffondere e 
 rafforzare il loro ruolo e contributo nel promuovere la sostenibilità amb
 ientale economica e sociale del nostro Paese\, riducendone parallelamente 
 la dipendenza energetica ed aprendo la strada a nuove strategie di gestion
 e del territorio e a nuovi servizi e tecnologie. La costruzione di dialogh
 i costruttivi e collaborativi è inoltre indispensabile per affrontare i f
 uturi sviluppi normativi\, tecnologici e di mercato.
 PROGRAMMA
 &nbsp\;
 
 &nbsp\;
LOCATION:Via del Gesù\, 57 - Roma
DTSTART:20250521T070000Z
DTEND:20250521T110000Z
DTSTAMP:20250505T094432Z
ORGANIZER:MAILTO:noreply.rel-prom@enea.it
END:VEVENT
END:VCALENDAR