BEGIN:VCALENDAR
VERSION:2.0
PRODID:Events Booking
BEGIN:VEVENT
UID:69e592fa3e763
SUMMARY:NSE - New Space Economy Expoforum
DESCRIPTION:
DTSTART:20241216T140000Z
DTEND:20241218T130000Z
DTSTAMP:20241206T122807Z
ORGANIZER:MAILTO:noreply.rel-prom@enea.it
END:VEVENT
END:VCALENDAR