BEGIN:VCALENDAR
VERSION:2.0
PRODID:Events Booking
BEGIN:VEVENT
UID:69e88abca711d
SUMMARY:L'ENEA a Innovation Village 2024
DESCRIPTION:Innovation Village è una fiera evento sull’innovazione prodo
 tta da Knowledge for Business\, giunta alla sua IX edizione. E' organizzat
 a da ENEA – EEN Consorzio BRIDGeconomies in collaborazione con vari altr
 i partner\, e sostenuta dalla Regione Campania\, Assessorato alla Ricerca\
 , Innovazione e Start up. Obiettivo principale è promuovere lo scambio di
  fabbisogni\, idee e conoscenze e co-progettare soluzioni tecnologiche inn
 ovative e funzionali attraverso la creazione di circuiti collaborativi fra
  ricerca e imprese.
 ENEA promuove la sesta edizione dell'Innovation Vill
 age Award\, contest finalizzato a scoprire e valorizzare esperienze di inn
 ovazione che contribuiscano allo sviluppo sostenibile e promuovere l’inn
 ovazione a sostegno degli obiettivi di Sviluppo Sostenibile fissati nell
 ’Agenda 2030. ENEA\, inoltre\, organizza il Virtual Brokerage Event 2024
 \, dando la possibilità di programmare incontri B2B\, nei quali è possib
 ile proporre idee e soluzioni tecnologiche\, trovare partner o risposte ai
  bisogni delle imprese.
LOCATION:Via Francesco Petrarca\, 80\, 80123 Napoli NA
DTSTART:20240507T220000Z
DTEND:20240508T220000Z
DTSTAMP:20240313T072357Z
ORGANIZER:MAILTO:noreply.rel-prom@enea.it
END:VEVENT
END:VCALENDAR