BEGIN:VCALENDAR
VERSION:2.0
PRODID:Events Booking
BEGIN:VEVENT
UID:69e57fc5ac2ba
SUMMARY:Il dialogo multi-stakeholder per favorire la circolarità del siste
 ma agroalimentare italiano: scenari e prospettive
DESCRIPTION:Nell’ambito del sistema agroalimentare\, il tema dello spreco
  alimentare riguarda tutte le fasi della filiera alimentare e richiede il 
 coordinamento e il coinvolgimento di tutti gli stakeholder per la messa in
  atto di attività dedicate alla prevenzione e al contenimento\, quali azi
 oni di contrasto a questo fenomeno.
 Nella tematica\, la Piattaforma Ital
 iana degli attori per l'Economia Circolare\, una rete di multi-stakeholder
  che ha lo scopo di favorire il dialogo e le sinergie per la promozione de
 ll'economia circolare in Italia\, svolge un ruolo importante. Il prossimo 
 14 novembre\, il gruppo di lavoro AGRIFOOD di ICESP\, organizza un webinar
  sull’importanza del dialogo tra gli stakeholder per facilitare la circo
 larità del sistema agroalimentare.
 L'evento rappresenta un’occasione 
 di confronto tra rappresentanti delle istituzioni\, di organizzazioni inte
 rnazionali e nazionali\, delle imprese e della ricerca\, nell’analisi di
  scenari e prospettive reali.
DTSTART:20231114T090000Z
DTEND:20231114T103000Z
DTSTAMP:20230919T063802Z
ORGANIZER:MAILTO:noreply.rel-prom@enea.it
END:VEVENT
END:VCALENDAR