BEGIN:VCALENDAR
VERSION:2.0
PRODID:Events Booking
BEGIN:VEVENT
UID:69e64dc8bea0e
SUMMARY:GLANST 2024 | Global Symposium on Lead and Lead Alloy Cooled Nuclea
 r Energy Science and Technology 2024
DESCRIPTION:L’evento \"Global Symposium on Lead and Lead Alloy Cooled Nuc
 lear Energy Science and Technology 2024\"\, co-organizzato da ENEA in coll
 aborazione con il GIF (Generation IV International&nbsp\;)&nbsp\;LFR (Lead
 -cooled Fast Reactor) pSSC (provisional System Steering Committee) &nbsp\;
 e con il supporto dell'OECD/NEA\,&nbsp\; è finalizzato a favorire la diff
 usione delle conoscenze su una delle tecnologie di quarta generazione: i r
 eattori raffreddati al piombo (LFR). 
 L'evento sarà tenuto esclusivamen
 te in presenza&nbsp\;per dare modo a&nbsp\;studenti\, dottorandi\, rappres
 entanti dell'industria\, ricercatori e membri di altre organizzazioni di d
 iscutere dei recenti sviluppi e delle prospettive future dei reattori velo
 ci raffreddati al piombo (LFR) e dei sistemi ADS (Accelerator Driven Subcr
 itical Systems).
 AGENDA
 ULTERIORI INFORMAZIONI
LOCATION:Località Brasimone - 40032 Camugnano (Bologna)
DTSTART:20240930T110000Z
DTEND:20241002T150000Z
DTSTAMP:20240903T185314Z
ORGANIZER:MAILTO:noreply.rel-prom@enea.it
GEO:44.170457;11.088812
X-APPLE-STRUCTURED-LOCATION;VALUE=URI;X-ADDRESS=Località Brasimone - 40032
  Camugnano (Bologna);X-APPLE-RADIUS=72;X-TITLE=Centro Ricerche ENEA Brasim
 one - Camugnano (BO):44.170457;11.088812
END:VEVENT
END:VCALENDAR