BEGIN:VCALENDAR
VERSION:2.0
PRODID:Events Booking
BEGIN:VEVENT
UID:69e58b8687bfe
SUMMARY:EUBCE 2023 | 31st European Biomass Conference & Exhibition
DESCRIPTION:EUBCE is&nbsp\;the largest biomass conference and exhibition in
  the world.&nbsp\;Each year\, EUBCE brings together the greatest minds and
  latest advancements in biomass\, with&nbsp\;the aim of accelerating resea
 rch and market uptake&nbsp\;across the globe.
 During the conference\,&nb
 sp\;over 2\,000 experts from both academia and industry&nbsp\;share and di
 scuss groundbreaking ideas\, technologies\, applications\, and solutions f
 or the sourcing\, production\, and utility of biomass.
 The scientific pr
 ogramme is&nbsp\;coordinated by the Joint Research Centre of the European 
 Commission.
 Since its 30th edition\, the event has been complemented by 
 the&nbsp\;Circular Bio-based Europe Joint Undertaking&nbsp\;efficacy at id
 entifying innovation\, stimulating investment\, and mobilising the bio-bas
 ed industry sector. This is an excellent opportunity to address even more 
 stakeholders globally through the conference.
 Message from the&nbsp\;EUB
 CE 2023 Conference General Chair -&nbsp\;Isabella De Bari\,&nbsp\;Head of 
 ENEA Laboratory for the processes and technologies for biorefineries and g
 reen chemistry
 Press Release
 EUBCE 2023 (official web site)
LOCATION:Piazza Costituzione\, 4/a - Bologna (Bo) Italia
DTSTART:20230605T070000Z
DTEND:20230608T140000Z
DTSTAMP:20230502T055629Z
ORGANIZER:MAILTO:noreply.rel-prom@enea.it
GEO:44.512118;11.362544
X-APPLE-STRUCTURED-LOCATION;VALUE=URI;X-ADDRESS=Piazza Costituzione\, 4/a -
  Bologna (Bo) Italia;X-APPLE-RADIUS=72;X-TITLE=Bologna Congress Center:44.
 512118;11.362544
END:VEVENT
END:VCALENDAR