BEGIN:VCALENDAR
VERSION:2.0
PRODID:Events Booking
BEGIN:VEVENT
UID:69e89ec2c6476
SUMMARY:ENEA partecipa a Ecomondo 2023
DESCRIPTION:Ogni anno Ecomondo propone un ampio programma di conferenze\, s
 eminari ed eventi volti ad approfondire le principali novità a livello&nb
 sp\;tecnologico\, normativo e di mercato nei settori:
 
 Economia circol
 are delle filiere non biologiche
 Economia circolare delle filiere biolog
 iche
 Gestione della risorsa idrica e environmental monitoring
 Rigenera
 zione degli ecosistemi\, economia rigenerativa e prevenzione dei rischi am
 bientali
 
 Ad assicurare la qualità\, l’innovatività e l’internaz
 ionalità dei contenuti\, il&nbsp\;Comitato Tecnico Scientifico si compone
  di un pool di ottanta tra primi&nbsp\;scienziati\,&nbsp\;tecnici\,&nbsp\;
 dirigenti&nbsp\;e&nbsp\;referenti di istituzioni nazionali&nbsp\;(Minister
 i\, fra cui quello dell’Ambiente e della Sicurezza Energetica\, le regio
 ni\, fra cui l’Emilia-Romagna)\,&nbsp\;associazioni e federazioni di set
 tore&nbsp\;(Utilitalia\, Assombiente\, Confindustria\, Confindustria Cisam
 biente\, Federalimentare\, Federchimica\, Confagricoltura)\,&nbsp\;consorz
 i&nbsp\;(CONAI\, CIB\, CIC)\,&nbsp\;agenzie e istituti&nbsp\;(ISPRA\, ENEA
 \, Istituto Superiore di Sanità)\, per citarne solo alcuni\, ma anche di&
 nbsp\;istituzioni europee e internazionali&nbsp\;(i.e. Commissione Europea
 \, OCSE\, EEA\, FAO\, ISWA international\, etc).
 Anche per questa edizio
 ne\, in calendario sono numerosissimi gli interventi di esperti e di ricer
 catori ENEA.
 Ecomondo 2023 | The green technology expo (sito ufficiale)
 
 Ecomondo 2023 | Programma Eventi
 Comunicato Stampa | Ambiente: materie
  prime critiche\, a Ecomondo tecnologie d’avanguardia ENEA per recuperar
 le&nbsp\;
LOCATION:Via Emilia\, 155 - 47921 Rimini (RN)\, Italy
DTSTART:20231107T083000Z
DTEND:20231110T153000Z
DTSTAMP:20230925T082605Z
ORGANIZER:MAILTO:noreply.rel-prom@enea.it
GEO:44.07219;12.52668
X-APPLE-STRUCTURED-LOCATION;VALUE=URI;X-ADDRESS=Via Emilia\, 155 - 47921 Ri
 mini (RN)\, Italy;X-APPLE-RADIUS=72;X-TITLE=Quartiere Fieristico di Rimini
 :44.07219;12.52668
END:VEVENT
END:VCALENDAR