BEGIN:VCALENDAR
VERSION:2.0
PRODID:Events Booking
BEGIN:VEVENT
UID:69e8202273054
SUMMARY:L'ENEA a Earth Day Italia
DESCRIPTION:ENEA partecipa a Earth Day\, in programma al&nbsp\;Villaggio de
 lla Terra di&nbsp\;Villa Borghese dal 18 al 21 aprile 2024\, con le attivi
 tà proposte dal&nbsp\;Dipartimento Sostenibilità\, circolarità e adatta
 mento al cambiamento climatico dei Sistemi Produttivi e Territoriali:
 

  Alla scoperta dei batteri buoni e…sostenibili!
 Calcola la tua impront
 a ecologica
 Sai cosa mangi? Mangiare sano e sostenibile si può
 
LOCATION:Viale del Galoppatoio\, 33\, 00197 Roma RM
DTSTART:20240417T220000Z
DTEND:20240420T220000Z
DTSTAMP:20240327T094901Z
ORGANIZER:MAILTO:noreply.rel-prom@enea.it
GEO:41.909856;12.486434
X-APPLE-STRUCTURED-LOCATION;VALUE=URI;X-ADDRESS=Viale del Galoppatoio\, 33\
 , 00197 Roma RM;X-APPLE-RADIUS=72;X-TITLE=Galoppatoio di Villa Borghese\, 
 Roma:41.909856;12.486434
END:VEVENT
END:VCALENDAR