BEGIN:VCALENDAR
VERSION:2.0
PRODID:Events Booking
BEGIN:VEVENT
UID:69e6aece5ed2d
SUMMARY:ENEA a E-TECH EUROPE 2025
DESCRIPTION:L’ENEA partecipa alla quarta edizione di E-TECH EUROPE\, la f
 iera internazionale annuale dedicata alle&nbsp\;batterie avanzate e alle t
 ecnologie innovative per la produzione e il riciclaggio di veicoli elettri
 ci industriali\, automobilistici\, di trasporti\, macchinari e veicoli ele
 ttrici industriali . La Fiera riunisce i principali attori&nbsp\; dell'int
 era filiera elettrica.
 Nell’ambito della manifestazione\, l’ENEA org
 anizza il 15 aprile dalle ore 11.15 alle 13.00\, presso la sala Pacinotti\
 , l’evento “ASPETTI CRITICI DELLA SUPPLY CHAIN ITALIANA DELLE BATTERIE
 ”\, che offre una visione prospettica sullo sviluppo della filiera itali
 ana delle batterie\, analizzandone le dinamiche sia dal punto di vista str
 ategico che tecnico-scientifico.&nbsp\;
 Inoltre saranno organizzati\, a 
 cura di ENEA\, due workshop nell'ambito del&nbsp\;Piano Triennale di Reali
 zzazione (PTR 2025-2027) e un evento di presentazione delle attività ENEA
  sui progetti IPCEI.
 L’ENEA è presente\, anche\, con un proprio spazi
 o espositivo\, dove è possibile incontrare gli esperti dell’Agenzia e p
 orre domande su tecnologia avanzata o di base riguardante le batterie rica
 ricabili e dove sono organizzati diversi eventi\, distribuiti nelle due gi
 ornate della manifestazione\, durante i quali saranno presentate&nbsp\;att
 ività “chiuse” o su prenotazione e attività informative “aperte”
  relative ai progetti ENEA.
 In occasione della manifestazione\, ENEA ina
 ugura la 1a edizione del “Premio Bruno Scrosati”\, dedicato al Prof. B
 runo Scrosati e rivolto ai dottorandi che lavorano presso l'ENEA e le Univ
 ersità italiane che collaborano con ENEA nel Piano Triennale di Realizzaz
 ione (PTR 2025-2027) italiano nel campo dell'accumulo elettrochimico di en
 ergia. Questo evento vuole essere un forum sulla formazione avanzata nel s
 ettore delle batterie che mette a confronto tre stakeholders principali: g
 li studenti di dottorato (i professionisti di domani)\, l’industria (i f
 ruitori)\, l’accademia e gli enti di ricerca (i formatori).
 &nbsp\;
DTSTART:20250415T090000Z
DTEND:20250416T140000Z
DTSTAMP:20250317T060622Z
ORGANIZER:MAILTO:noreply.rel-prom@enea.it
END:VEVENT
END:VCALENDAR