BEGIN:VCALENDAR
VERSION:2.0
PRODID:Events Booking
BEGIN:VEVENT
UID:69e9ac8add2ac
SUMMARY:14° Workshop Tematico AIT-ENEA | Telerilevamento applicato alla ge
 stione delle risorse idriche
DESCRIPTION:L'edizione 2024 del Workshop tematico\, co-organizzata da ENEA 
 e AIT\, fa il focus sulle applicazioni di Telerilevamento rivolte alle Ris
 orse Idriche\, tema attualissimo e importante nel contesto ambientale\, so
 ciale ed economico\; in questo ambito\, il workshop vuole presentare e dif
 fondere i risultati ottenuti in ambito accademico e governativo con delle 
 giornate dedicate alla ricerca applicata e ai futuri programmi e scenari n
 el settore spaziale\, che si sta trasformando in uno dei motori propulsori
  del paese e che porta ad un disegno di sviluppo e benefici all’intero s
 istema produttivo e industriale.
 PROGRAMMA
 &nbsp\;
 &nbsp\;
LOCATION: Via Manzoni\, 5 - 40121 Bologna
DTSTART:20240606T083000Z
DTEND:20240607T103000Z
DTSTAMP:20240209T064232Z
ORGANIZER:MAILTO:noreply.rel-prom@enea.it
GEO:44.496557;11.3423
X-APPLE-STRUCTURED-LOCATION;VALUE=URI;X-ADDRESS= Via Manzoni\, 5 - 40121 Bo
 logna;X-APPLE-RADIUS=72;X-TITLE=Sala dell' Oratorio San Filippo Neri - Bol
 ogna:44.496557;11.3423
END:VEVENT
END:VCALENDAR