BEGIN:VCALENDAR
VERSION:2.0
PRODID:Events Booking
BEGIN:VEVENT
UID:69ed91ac218bc
SUMMARY:TEDxWomen - Equilibri Complessi
DESCRIPTION:Per la&nbsp\;prima volta&nbsp\;a&nbsp\;Bergamo&nbsp\;uno dei fo
 rmat più interessanti dell’universo&nbsp\;TED:&nbsp\;TEDWomen
 Il Form
 at&nbsp\;TEDWomen&nbsp\;è stato lanciato da&nbsp\;TED&nbsp\;nel 2010 per 
 amplificare le idee delle donne in tutto il mondo.
 Da allora ci sono sta
 ti&nbsp\;2000 eventi&nbsp\;in più di&nbsp\;135 Paesi&nbsp\;in tutto il mo
 ndo\, con più di&nbsp\;500&nbsp\;TEDWomenTalks&nbsp\;che hanno registrato
  oltre 500 milioni di visualizzazioni\,&nbsp\;colmando&nbsp\;così il&nbsp
 \;preesistente&nbsp\;divario&nbsp\;di&nbsp\;genere&nbsp\;sui palchi e&nbsp
 \;sulle&nbsp\;piattaforme&nbsp\;di&nbsp\;TED.
 Organizzare un&nbsp\;TEDxW
 omen&nbsp\;oggi\,&nbsp\;nel 2024\, è molto di più\, è&nbsp\;un’opport
 unità&nbsp\;per&nbsp\;confrontarsi&nbsp\;su alcuni&nbsp\;temi&nbsp\;fonda
 mentali&nbsp\;per la collettività di cui vorremmo far parte\, utilizzando
  un linguaggio più ampio possibile.
 Una comunità attenta a favorire la
  convivenza delle differenze viste come una ricchezza\,&nbsp\;oltre ogni s
 tereotipo di genere.
 TEDxBergamoWomen equilibriPossibili è…
 Equilib
 riStare in equilibrio esplorando temi complessi\, mantenendo una visione a
 perta\, ampia\, rispettosa\, riflettendo la capacità di evolversi e adat
 tarsi ai cambiamenti.PossibilitàAscoltare e comprendere un linguaggio uni
 versale\, quello umano\, oltre il femminile e le polarità accogliendo pu
 nti di vista e narrative diversi.RiflessiLeggere ciò che appare sotto un
 ’altra prospettiva\, andando oltre la linearità e ciò che appare\, i
 l giudizio e le convenzioni.
 SERATA? 20.00 accoglienza? 20.45 talk e per
 fomance✔ 22:45 fine evento
 Equilibri possibili&nbsp\;ha l’obiettivo 
 di promuovere un ambiente di&nbsp\;apprendimento\,&nbsp\;collaborazione&nb
 sp\;e&nbsp\;azione&nbsp\;per&nbsp\;scardinare&nbsp\;le&nbsp\;barriere&nbsp
 \;di&nbsp\;genere&nbsp\;ed&nbsp\;esaltare&nbsp\;l’identità&nbsp\;person
 ale.
 Comprenderemo davvero cosa significa&nbsp\;equità&nbsp\;e&nbsp\;sm
 antelleremo&nbsp\;i&nbsp\;pregiudizi&nbsp\;più radicati e inconsci.
 Qua
 ttro donne racconteranno sul bollo rosso una loro idea originale e&nbsp\;l
 ontana&nbsp\;dagli&nbsp\;stereotipi.
 Uno&nbsp\;sguardo&nbsp\;libero&nbsp
 \;ed empatico che può fare la&nbsp\;differenza.Le loro storie mostreranno
  che raggiungere un&nbsp\;equilibrio&nbsp\;è&nbsp\;possibile&nbsp\;solo 
 se ci&nbsp\;dissociamo&nbsp\;dalla&nbsp\;polarizzazione&nbsp\;e consideria
 mo tutte le&nbsp\;combinazioni.Come sempre nello stile di&nbsp\;TEDxBergam
 o:&nbsp\;persone ordinarie&nbsp\;con&nbsp\;idee&nbsp\;straordinarie.
DTSTART:20241029T194500Z
DTEND:20241029T214500Z
DTSTAMP:20241003T140955Z
ORGANIZER:MAILTO:noreply.rel-prom@enea.it
END:VEVENT
END:VCALENDAR