BEGIN:VCALENDAR
VERSION:2.0
PRODID:Events Booking
BEGIN:VEVENT
UID:69e7bcee74374
SUMMARY:Manifestazione \"Terni Digital Week 2024 - Il Festival dell'Innova
 zione Digitale del Centro Italia
DESCRIPTION:La manifestazione \"Terni Digital Week 2024 - Il&nbsp\;Festival
  dell'Innovazione Digitale del&nbsp\;Centro Italia\" ha come obiettivo que
 llo di sensibilizzare il territorio nazionale ai temi dello sviluppo e del
 l’innovazione digitale per favorire la penetrazione di una nuova cultura
  tra la popolazione e tra le imprese.
 &nbsp\;
 &nbsp\;
 &nbsp\;
DTSTART:20241015T220000Z
DTEND:20241019T220000Z
DTSTAMP:20240506T113919Z
ORGANIZER:MAILTO:noreply.rel-prom@enea.it
END:VEVENT
END:VCALENDAR