BEGIN:VCALENDAR
VERSION:2.0
PRODID:Events Booking
BEGIN:VEVENT
UID:69e76b5d3d5c0
SUMMARY:Nuove energie tra Europa e Africa 
DESCRIPTION:L'iniziativa rappresenta un'occasione unica per riunire gli amb
 asciatori dei Paesi africani\, le istituzioni italiane ed europee e le azi
 ende coinvolte in importanti progetti di investimento in Africa.Il suo obi
 ettivo principale è quello di rilanciare la cooperazione tra l'Unione eur
 opea e l'Africa\, in particolare nei settori dell'energia e degli investim
 enti per lo sviluppo.
 L'evento si terrà il 18 settembre 2024 presso la 
 residenza dell'Ambasciatore del Regno del Marocco in Italia. La serata ini
 zierà con un aperitivo\, durante il quale sono previstiinterventi di rapp
 resentanti istituzionali.
 Seguirà una cena di networking. Durante la ce
 na\, i responsabili delle aziende e delle organizzazioni coinvolte avranno
  l'opportunità di presentare i loro progetti e le loropolitiche di invest
 imento in Africa in discorsi di 10 minuti. Ciò fornirà un'illustrazione 
 concreta del loro impegno per lo sviluppo del continente africano.
DTSTART:20240917T220000Z
DTEND:20240917T220000Z
DTSTAMP:20240905T120252Z
ORGANIZER:MAILTO:noreply.rel-prom@enea.it
END:VEVENT
END:VCALENDAR