BEGIN:VCALENDAR
VERSION:2.0
PRODID:Events Booking
BEGIN:VEVENT
UID:69e67e362dfe4
SUMMARY:I^ edizione AQUAWATT – mostra-convegno dell’energia idroelettri
 ca per la transizione energetica
DESCRIPTION:
DTSTART:20241002T220000Z
DTEND:20241003T220000Z
DTSTAMP:20231003T125246Z
ORGANIZER:MAILTO:noreply.rel-prom@enea.it
END:VEVENT
END:VCALENDAR