BEGIN:VCALENDAR
VERSION:2.0
PRODID:Events Booking
BEGIN:VEVENT
UID:69e7bc43d86ff
SUMMARY:Ediltrophy 2024 - Manifestazione Nazionale di Arte Muraria 
DESCRIPTION:“Ediltrophy”&nbsp\;è la gara di arte muraria nata nel 20
 08 per promuovere la formazione\, il lavoro regolare e la sicurezza in edi
 lizia.
 È organizzata dal&nbsp\;Formedil&nbsp\;(Ente Unico Formazione e 
 Sicurezza) in collaborazione con&nbsp\;SAIE&nbsp\;e&nbsp\;IIPLE\, Istituto
  Professionale Edile di Bologna.
 La gara è caratterizzata da preselezio
 ni regionali o interregionali e una finalissima nazionale. Nella finale na
 zionale vengono eletti i migliori muratori dell’anno nella categoria jun
 ior e senior.
 L’edizione 2024 di “Ediltrophy” si inserisce nel con
 testo di un&nbsp\;programma di iniziative che vengono svolte dal sistema
  Formedil&nbsp\;durante tutti i giorni di fiera\; tra queste\, spazi di pr
 omozione interattiva delle attività degli Enti territoriali mediante post
 azioni dedicate\, il convegno nazionale Formedil di presentazione dei dati
  di monitoraggio annuali.
 La finale nazionale dell’edizione 2024 si sv
 olgerà a Bologna sabato 12 ottobre in occasione della giornata conclusi
 va di SAIE.
DTSTART:20241008T220000Z
DTEND:20241011T220000Z
DTSTAMP:20240603T115654Z
ORGANIZER:MAILTO:noreply.rel-prom@enea.it
END:VEVENT
END:VCALENDAR