BEGIN:VCALENDAR
VERSION:2.0
PRODID:Events Booking
BEGIN:VEVENT
UID:69e6f2690fb9d
SUMMARY:E2DT2025 - 3rd International Conference on Energy\, Environment & 
 Digital Transition 
DESCRIPTION:La Conferenza Internazionale \"E2DT2025\" ha lo scopo di riunir
 e ricercatori\, ingegneri\, dirigenti\, rappresentanti delle istituzioni p
 er mappare la transizione verso l'azzeramento delle emissioni nette di car
 bonio e le energia\, guidata dal riconoscimento che le emissioni globali d
 i CO2 devono essere drasticamente per mantenere il riscaldamento globale a
 l di sotto dell'obiettivo di 1\,5 °C.
 L'obiettivo è quello di fornire 
 prove aggiornate sulle condizioni ambientali positive e negative effetti d
 ella transizione energetica e sulle nuove tecnologie per guidare/accelerar
 e esso.
 L'evoluzione energetica e ambientale sarà resa possibile dai qu
 adri strategici e strumenti di mercato\, accelerati dalla digitalizzazione
 .
 Tecnologie digitali renderà infatti i sistemi energetici più conness
 i\, intelligenti\, efficienti\, affidabili e sostenibile. Al contrario\, l
 a digitalizzazione sta cambiando anche i mercati\, le imprese e occupazion
 e: stanno emergendo nuovi modelli e quelli convenzionali stanno gradualmen
 te scomparendo.
 &nbsp\;
DTSTART:20241011T220000Z
DTEND:20241014T220000Z
DTSTAMP:20240801T122703Z
ORGANIZER:MAILTO:noreply.rel-prom@enea.it
END:VEVENT
END:VCALENDAR