BEGIN:VCALENDAR
VERSION:2.0
PRODID:Events Booking
BEGIN:VEVENT
UID:69e96314421a1
SUMMARY:Destinazione Italia: turismo internazionale in evoluzione
DESCRIPTION:\"Destinazione Italia: turismo internazionale in evoluzione\" 
 è&nbsp\; un evento online dedicato al mondo del turismo internazionale in
  Italia e prevede una serie di panel e webinar tecnici focalizzati sul tur
 ismo\, le sue nuove declinazioni e la sua promozione\, tra cui il turismo 
 sostenibile\, il turismo esperienziale\, i servizi digitali per il turismo
  e molti altri.
DTSTART:20241105T083000Z
DTEND:20241108T130000Z
DTSTAMP:20231024T122913Z
ORGANIZER:MAILTO:noreply.rel-prom@enea.it
END:VEVENT
END:VCALENDAR