BEGIN:VCALENDAR
VERSION:2.0
PRODID:Events Booking
BEGIN:VEVENT
UID:69ebd9220c478
SUMMARY:Concorso di idee e progetti per la transizione ecologica - Green Co
 ntest 2023
DESCRIPTION:GREEN CONTEST 2023&nbsp\;è un concorso di idee e progetti sui 
 temi della Sostenibilità e dell’Ecologia\, parole chiave per il futuro 
 del nostro pianeta.L'obiettivo è stimolare la creatività e le idee degli
  studenti partecipanti sui temi della sostenibilità\, premiando la ricerc
 a di soluzioni innovative\, proposte e idee che riescano a far convivere i
 n maniera profittevole uomo e natura per migliorare l’ambiente di vita\,
  di studio e del tempo libero.
DTSTART:20231107T230000Z
DTEND:20240411T220000Z
DTSTAMP:20231013T095257Z
ORGANIZER:MAILTO:noreply.rel-prom@enea.it
END:VEVENT
END:VCALENDAR