BEGIN:VCALENDAR
VERSION:2.0
PRODID:Events Booking
BEGIN:VEVENT
UID:69ed549f475db
SUMMARY:18° Congresso Mondiale di Ingegneria Sismica - Eighteenth World Co
 nference on Earthquake Engineering 
DESCRIPTION:L’Associazione Nazionale di Ingegneria Sismica ANIdIS ha l’
 obiettivo di promuovere e divulgare la cultura antisismica nei Settori del
 l'Ingegneria Civile con particolare riferimento ai temi della pericolosit
 à sismica\, della vulnerabilità sismica\, del rischio sismico\, riguardo
  sia le nuove costruzioni sia le costruzioni esistenti. La diciottesima ed
 izione del Congresso Mondiale di Ingegneria Sismica avrà luogo presso il 
 Centro Congressi Alliance MiCo di Milano.
DTSTART:20240630T073000Z
DTEND:20240705T143000Z
DTSTAMP:20230117T123350Z
ORGANIZER:MAILTO:noreply.rel-prom@enea.it
END:VEVENT
END:VCALENDAR