BEGIN:VCALENDAR
VERSION:2.0
PRODID:Events Booking
BEGIN:VEVENT
UID:69eaedc733632
SUMMARY:Presentazione delle Linee guida \"Tetti e pareti verdi per gli edif
 ici\"
DESCRIPTION:L'implementazione di sistemi vegetali come i Green Roof (Tetti 
 Verdi) e i Vertical Greenery System (Pareti Verdi) rappresenta una soluzio
 ne innovativa per migliorare l'ambiente urbano\, ridurre le emissioni di C
 O2 e influenzare positivamente il microclima. Questi sistemi migliorano il
  comfort termico degli edifici\, filtrano le polveri e mitigano gli effett
 i delle isole di calore grazie all'evapotraspirazione delle piante e all'o
 mbreggiamento.
 Per supportare la Pubblica Amministrazione nell'implement
 azione di tali infrastrutture\, l’ENEA ha messo a punto delle specifiche
  Linee guida dedicate ai Tetti e alle Pareti Verdi. Tale strumento fornisc
 e un quadro conoscitivo completo e offre una panoramica legislativa a live
 llo europeo e nazionale\, oltre che una sintesi dei bandi nazionali per fi
 nanziare le infrastrutture verdi.
 Le Linee guida saranno illustrate dagl
 i esperti ENEA nel corso del webinar del 4 luglio 2024.
 PROGRAMMA
 COMU
 NICATO STAMPA
 REGISTRAZIONE INTEGRALE DEL WEBINAR
DTSTART:20240704T080000Z
DTEND:20240704T102000Z
DTSTAMP:20240619T044245Z
ORGANIZER:MAILTO:noreply.rel-prom@enea.it
END:VEVENT
END:VCALENDAR