BEGIN:VCALENDAR
VERSION:2.0
PRODID:Events Booking
BEGIN:VEVENT
UID:69eca39193bdd
SUMMARY:L’analisi economica dei progetti di efficientamento energetico pe
 r le imprese
DESCRIPTION:Con il webinar del 21 maggio\, organizzato da Assolombarda in c
 ollaborazione con ENEA\, prosegue la terza annualità&nbsp\;del Piano di s
 ensibilizzazione destinato all’efficienza energetica nelle PMI.&nbsp\;

  Assolombarda ed ENEA si sono impegnate a sviluppare progettualità specif
 iche per l'efficienza energetica in azienda\, al fine di diffondere la cul
 tura all'efficienza energetica e di fornire un&nbsp\;supporto concreto all
 e PMI per accompagnarle verso la transizione energetica. In questo contest
 o\, insieme hanno sviluppato&nbsp\;il Progetto \"Energy Efficiency First f
 or SME's\": un piano di formazione e sensibilizzazione dedicato alle PMI d
 i specifici comparti industriali. In particolare\, l'edizione 2024 si rivo
 lge alle PMI del Settore Alimentare.
 Il webinar del 21 maggio si propone
  di illustrare la parte relativa all'analisi economico-finanziaria di un p
 rogetto di efficientamento energetico\, con la presentazione di alcuni cas
 i studio.
DTSTART:20240521T130000Z
DTEND:20240521T143000Z
DTSTAMP:20240424T072730Z
ORGANIZER:MAILTO:noreply.rel-prom@enea.it
END:VEVENT
END:VCALENDAR