BEGIN:VCALENDAR
VERSION:2.0
PRODID:Events Booking
BEGIN:VEVENT
UID:69e616e75fad3
SUMMARY:L’efficienza energetica e Diagnosi Energetica nelle piccole e med
 ie imprese - Opportunità e strumenti per le PMI
DESCRIPTION:L'incontro\, organizzato da ENEA e Confindustria Emilia Romagna
 \,&nbsp\;rappresenta un importante momento di confronto sulle barriere tec
 niche ed economiche relative all’implementazione di politiche di efficie
 nza energetica. Saranno presentate proposte e strumenti utili alle PMI per
  superare tali barriere e contestualmente si valuteranno le soluzioni util
 i al raggiungimento della transizione energetica dei comparti produttivi.
 
 Il workshop sarà l’occasione per presentare gli strumenti ENEA dedica
 ti all’efficienza energetica nelle PMI\, tra cui il tool e le linee guid
 a pratiche per la redazione della diagnosi energetica nelle PMI\, sviluppa
 ti rispettivamente all’interno del Piano di Sensibilizzazione\, nell’a
 mbito delle attività del Progetto Ricerca di Sistema e nell’ambito dei 
 progetti internazionali coordinati da ENEA.
 PROGRAMMA
 REGISTRAZIONE ON
  LINE
DTSTART:20260506T130000Z
DTEND:20260506T143000Z
DTSTAMP:20260417T074516Z
ORGANIZER:MAILTO:noreply.rel-prom@enea.it
END:VEVENT
END:VCALENDAR