BEGIN:VCALENDAR
VERSION:2.0
PRODID:Events Booking
BEGIN:VEVENT
UID:69e898110117b
SUMMARY:Workshop Innovative solutions for energy recovery and storage\, and
  buildings monitoring
DESCRIPTION:Il NIS (Colloquium Innovative solutions for energy recovery and
  storage\, and buildings monitoring)&nbsp\;è organizzato dal gruppo MOF d
 el Dipartimento di Chimica (Università di Torino) con il supporto dell'EN
 EA presso il Dipartimento di Chimica dell'Università degli Studi di Torin
 o.
 Il Colloquio è relativo all'omonima attività di ricerca finanziata 
 dall'Accordo di Programma tra ENEA e Ministero dell'Ambiente e della Sicur
 ezza Energetica per la Ricerca del Sistema Elettrico (Piano Attuativo 2022
 -2024\, Progetto 1.5 Edifici ad alta efficienza per la transizione energet
 ica\, Work Package 3). L'obiettivo è quello di fornire un'ampia panoramic
 a sul recupero energetico negli edifici di nuova generazione\, spaziando d
 allo sviluppo sostenibile di materiali innovativi alle sfide tecnologiche 
 per la produzione di energia e i dispositivi di accumulo\, con particolare
  attenzione anche al monitoraggio degli edifici.
 Relatori di fama nazion
 ale e internazionale terranno le loro conferenze e saranno aperti a discut
 ere con il pubblico sulle sfide nella progettazione della prossima generaz
 ione di edifici.
 All'evento parteciperanno Giovanni Landi\, Luca La Nott
 e e&nbsp\;Alessandro Lorenzo Palma (DUEE-SPS-SEI)
 
 Programma (23 Febbr
 aio 2023)&nbsp\;
 
DTSTART:20240223T080000Z
DTEND:20240223T143000Z
DTSTAMP:20240201T111249Z
ORGANIZER:MAILTO:noreply.rel-prom@enea.it
END:VEVENT
END:VCALENDAR