BEGIN:VCALENDAR
VERSION:2.0
PRODID:Events Booking
BEGIN:VEVENT
UID:69ed58dae3720
SUMMARY:Le CER - Comunità Energetiche Rinnovabili per uno sviluppo sosteni
 bile del territorio: il modello CERQUITY
DESCRIPTION:L’iniziativa nasce con l’obiettivo di sensibilizzare l’in
 tera comunità\, con particolare attenzione ai decisori politici\, agli op
 eratori economici e ai cittadini sui benefici sociali\,&nbsp\;ambientali e
 d economici derivanti dall’adesione a una comunità energetica.
 L'ENEA
  parteciperà con l'Ing. Gilda Massa (TERIN-ICER-CROSS)
 Agenda Lavori (2
 6 Settembre 2025)
 &nbsp\;
DTSTART:20250926T143000Z
DTSTAMP:20250910T085420Z
ORGANIZER:MAILTO:noreply.rel-prom@enea.it
END:VEVENT
END:VCALENDAR