BEGIN:VCALENDAR
VERSION:2.0
PRODID:Events Booking
BEGIN:VEVENT
UID:69e856b7f02e3
SUMMARY:Le evoluzioni in corso a livello europeo\, i nuovi Regolamenti e l'
 entrata in vigore dei requisiti di Ecodesign per il settore illuminazione
DESCRIPTION:L'evento è organizzato da ASSOLUCE\, associazione che opera co
 me organismo per il continuo miglioramento dei livelli qualitativi del set
 tore dell'illuminazione è analizzerà i varie tematiche:&nbsp\;
 • Rev
 isione della legislazione per Prodotti da Costruzione• Nuovo Regolamento
  per imballaggi• Regolamento di Ecodesign: prossima entrata in vigore de
 i requisiti definiti nel Regolamento 2019/2020 (e 341/2021) EU• Revision
 e Regolamento EPS• Ulteriori considerazioni sugli sviluppi a livello EU
 
 La Dott.ssa Milena Presutto (DUEE) parteciperà in veste di relatore ENE
 A.
 &nbsp\;
DTSTART:20231203T230000Z
DTEND:20231203T230000Z
DTSTAMP:20231120T093051Z
ORGANIZER:MAILTO:noreply.rel-prom@enea.it
END:VEVENT
END:VCALENDAR