BEGIN:VCALENDAR
VERSION:2.0
PRODID:Events Booking
BEGIN:VEVENT
UID:69e5107c6056c
SUMMARY:Evento ai 300 scalini
DESCRIPTION:
DTSTART:20240524T220000Z
DTEND:20240524T220000Z
DTSTAMP:20240509T122515Z
ORGANIZER:MAILTO:noreply.rel-prom@enea.it
END:VEVENT
END:VCALENDAR