BEGIN:VCALENDAR
VERSION:2.0
PRODID:Events Booking
BEGIN:VEVENT
UID:69e83fb9d82b0
SUMMARY:Agrivoltaico\, l’esperienza italiana su vitigni e alberi da frutt
 o e prospettive di sviluppo
DESCRIPTION:L’Associazione Italiana Agrivoltaico Sostenibile\, presieduta
  da ENEA\, organizza un workshop per presentare esperienze di successo di 
 applicazione dell’agrivoltaico su vitigni ed alberi da frutto sul territ
 orio nazionale e future prospettive di sviluppo.
LOCATION:Viale del Lavoro\, 8 – Verona 
DTSTART:20230201T100000Z
DTEND:20230201T104500Z
DTSTAMP:20230127T091152Z
ORGANIZER:MAILTO:noreply.rel-prom@enea.it
GEO:45.41816;10.98057
X-APPLE-STRUCTURED-LOCATION;VALUE=URI;X-ADDRESS=Viale del Lavoro\, 8 – Ve
 rona ;X-APPLE-RADIUS=72;X-TITLE=Sala Verde\, Centro Congressi Palaexpo di 
 Veronafiere:45.41816;10.98057
END:VEVENT
END:VCALENDAR